BEGIN:VCALENDAR
VERSION:2.0
PRODID:-//urwahl3000//bela-lange.de//DE
CALSCALE:GREGORIAN
BEGIN:VEVENT
DTSTART:20210521T170000
DTEND:20210522T160000
LOCATION:Gartenstr. 2 31655 Stadthagen
DTSTAMP:20210521T170000
SUMMARY:Listenaufstellung für die Kommunalwahl
URL;VALUE=URI:https://www.bela-lange.de/termin/listenaufstellung-fuer-die-kommunalwahl
DESCRIPTION:Der Kreisverband von Bündnis 90/Die Grünen stellt die Listen zur Kommunalwahl 2021 auf.
UID:20210521T170000-20210521T170000-20210522T160000
END:VEVENT
END:VCALENDAR